BEGIN:VCALENDAR
VERSION:2.0
PRODID:-//RISIS 2 - ECPv5.16.4.1//NONSGML v1.0//EN
CALSCALE:GREGORIAN
METHOD:PUBLISH
X-WR-CALNAME:RISIS 2
X-ORIGINAL-URL:https://www.risis2.eu
X-WR-CALDESC:Events for RISIS 2
BEGIN:VTIMEZONE
TZID:Europe/Rome
BEGIN:DAYLIGHT
TZOFFSETFROM:+0100
TZOFFSETTO:+0200
TZNAME:CEST
DTSTART:20230326T010000
END:DAYLIGHT
BEGIN:STANDARD
TZOFFSETFROM:+0200
TZOFFSETTO:+0100
TZNAME:CET
DTSTART:20231029T010000
END:STANDARD
END:VTIMEZONE
BEGIN:VEVENT
DTSTART;TZID=Europe/Rome:20230419T123000
DTEND;TZID=Europe/Rome:20230419T140000
DTSTAMP:20260424T161435
CREATED:20230227T082006Z
LAST-MODIFIED:20230426T154334Z
UID:9662-1681907400-1681912800@www.risis2.eu
SUMMARY:RESEARCH SEMINAR: Multilevel analysis on the effect of institutional autonomy on higher education effectiveness in Europe: In search of promised effects
DESCRIPTION:Presenter:  \nPatrick Painsi\, University of Graz \n  \nDiscussant: \n\nTatiana Fumasoli\, UCL \n\n\n  \n\nAbstract \nPurpose: This paper aims to evaluate the effect various forms of institutional autonomy on higher education (HE) institutions success at three primary mission objectives of HE institutions (graduates\, research\, knowledge exchange). The central research question is whether increasing institutional autonomy leads to higher success of HE institutions in fulfilling their missions. The literature around institutional autonomy suggests a mostly positive effect\, but also invokes some arguments to contrary effects. \nDesign / Method: This paper uses multiple sets of OLS regression models\, including multi-level hierarchical models\, combining data from four sources for European HE institutions for the years 2011 and 2016 for secondary analysis. The four sources include the EUA Scorecard on HEI autonomy on country level\, the ETER database for institution-level data about age\, size and content orientation of HE institutions\, additional macro-economic parameters on country level sourced from EUROSTAT and Centre for Science & Technology Studies of Leiden University (CWTS) data was used to as an indicator for the second HE institutional mission.  The regression models are used to estimate the effect of HE institutional autonomy on its success in fulfilling its missions. \nFindings: Results indicate a good fit of a two-level modelling solution for the given data.  The effects of increasing HE institutional autonomy on the mission objectives appear mostly minor and\, in some cases\, negative and therefore contrary to many statements in the literature. \nOriginality : Quantitative evaluation approach for HE institutions in 15 European countries. Usage of the EUA Autonomy Scorecard as a multidimensional evaluation tool\, combined with data from three other sources (ETER\, EUROSTAT\, CWTS) on HE institution level as well as on country level. Estimating effects on three different mission objectives of HE institutions. \n  \nKeywords: HE institutions\, HEI\, universities\, higher education\, autonomy\, three missions\, education\, research\, third-party funding\, multilevel regression\, hierarchical model\, new public management \nJEL Classification: C31\, H41\, H83\, I23\, I28\, O57 \n 
URL:https://www.risis2.eu/event/research-seminar-the-empirical-analysis-of-degree-mobile-students-the-hosting-country-perspective/
CATEGORIES:Research Seminars
ATTACH;FMTTYPE=image/jpeg:https://www.risis2.eu/wp-content/uploads/2020/07/black-and-white-blackboard-business-chalkboard-356043-e1595849777478.jpg
END:VEVENT
END:VCALENDAR