BEGIN:VCALENDAR
VERSION:2.0
PRODID:-//RISIS 2 - ECPv5.16.4.1//NONSGML v1.0//EN
CALSCALE:GREGORIAN
METHOD:PUBLISH
X-WR-CALNAME:RISIS 2
X-ORIGINAL-URL:https://www.risis2.eu
X-WR-CALDESC:Events for RISIS 2
BEGIN:VTIMEZONE
TZID:Europe/Rome
BEGIN:DAYLIGHT
TZOFFSETFROM:+0100
TZOFFSETTO:+0200
TZNAME:CEST
DTSTART:20250330T010000
END:DAYLIGHT
BEGIN:STANDARD
TZOFFSETFROM:+0200
TZOFFSETTO:+0100
TZNAME:CET
DTSTART:20251026T010000
END:STANDARD
END:VTIMEZONE
BEGIN:VEVENT
DTSTART;TZID=Europe/Rome:20250115T123000
DTEND;TZID=Europe/Rome:20250115T123000
DTSTAMP:20260421T151216
CREATED:20241204T121740Z
LAST-MODIFIED:20241230T145259Z
UID:10484-1736944200-1736944200@www.risis2.eu
SUMMARY:Research Seminar #42: Sustainability Rankings and sustainability performance: Assessing the relationship
DESCRIPTION:  \nPresenter: Chiara Alberti\, University of Bergamo \n  \nDiscussant: tba \n  \nAbstract \nAfter a decade of debate on rankings in the higher education sector\, recent years have also seen the development also of sustainability rankings. Sustainable development represents one of the most significant challenges currently facing society\, and education has been recognized as a crucial element in addressing this issue. In light of the societal push toward sustainability and the expected contribution of higher education institutions (HEIs)\, new rankings have emerged. Although numerous studies have been conducted on ranking systems\, research focusing on sustainability rankings and their impact is limited. Furthermore\, empirical literature regarding sustainability performance in HEIs is scarce. Given these considerations\, our study aims to address these gaps by providing new empirical evidence. The objective of this paper is to empirically assess the nature of the relationship between sustainability ranking and university sustainability performance. To this end\, data from 75 Italian HEIs were collected over the period between 2010 and 2023 and then a Granger Causality test was employed. In brief\, our results provide evidence that a causal relationship exists in both directions. These findings can have an impact on researchers\, policymakers\, and university managers. \nREGISTRATIONS OPEN \n 
URL:https://www.risis2.eu/event/research-seminar-42/
LOCATION:ONLINE FORMAT
CATEGORIES:Research Seminars
ATTACH;FMTTYPE=image/jpeg:https://www.risis2.eu/wp-content/uploads/2024/12/rs-15-jan.jpg
END:VEVENT
END:VCALENDAR