BEGIN:VCALENDAR
VERSION:2.0
PRODID:-//RISIS 2 - ECPv5.16.4.1//NONSGML v1.0//EN
CALSCALE:GREGORIAN
METHOD:PUBLISH
X-WR-CALNAME:RISIS 2
X-ORIGINAL-URL:https://www.risis2.eu
X-WR-CALDESC:Events for RISIS 2
BEGIN:VTIMEZONE
TZID:Europe/Rome
BEGIN:DAYLIGHT
TZOFFSETFROM:+0100
TZOFFSETTO:+0200
TZNAME:CEST
DTSTART:20240331T010000
END:DAYLIGHT
BEGIN:STANDARD
TZOFFSETFROM:+0200
TZOFFSETTO:+0100
TZNAME:CET
DTSTART:20241027T010000
END:STANDARD
END:VTIMEZONE
BEGIN:VEVENT
DTSTART;TZID=Europe/Rome:20240313T123000
DTEND;TZID=Europe/Rome:20240313T140000
DTSTAMP:20260424T124333
CREATED:20240207T110012Z
LAST-MODIFIED:20240305T122712Z
UID:10421-1710333000-1710338400@www.risis2.eu
SUMMARY:Research Seminar #34: The relationship between academic seniority and scientific production at the organisational level
DESCRIPTION:Presenters: Pedro Pineda\, University of Bath & Özgür Kadir Özer\, Middle East Technical University  \nCo-author: Benedetto Lepori\, Università della Svizzera italiana \nDiscussant: Marek Kwiek\, University of Poznan \n  \n  \nAbstract: \nThis study examines the relationship between academic seniority in rank and research productivity using a cross-national dataset covering 1\,180 higher education organisations from 13 countries for 2011-2020. Our results\, estimated using fixed-effect OLS models\, show that organisational research productivity increases as the share of senior-level academic personnel rises. The increase in senior-level academic personnel also positively affects the impact of scientific publications. \n  \n\nSeminar Registration \n \n 
URL:https://www.risis2.eu/event/research-seminar-34/
LOCATION:ONLINE FORMAT
CATEGORIES:Research Seminars
ATTACH;FMTTYPE=image/png:https://www.risis2.eu/wp-content/uploads/2024/02/thumb__1440_810_0_0_crop.png
END:VEVENT
END:VCALENDAR